BEGIN:VCALENDAR
VERSION:2.0
PRODID:-//The Heritage Grill - ECPv6.15.17//NONSGML v1.0//EN
CALSCALE:GREGORIAN
METHOD:PUBLISH
X-ORIGINAL-URL:http://theheritagegrill.com
X-WR-CALDESC:Events for The Heritage Grill
REFRESH-INTERVAL;VALUE=DURATION:PT1H
X-Robots-Tag:noindex
X-PUBLISHED-TTL:PT1H
BEGIN:VTIMEZONE
TZID:America/Vancouver
BEGIN:DAYLIGHT
TZOFFSETFROM:-0800
TZOFFSETTO:-0700
TZNAME:PDT
DTSTART:20180311T100000
END:DAYLIGHT
BEGIN:STANDARD
TZOFFSETFROM:-0700
TZOFFSETTO:-0800
TZNAME:PST
DTSTART:20181104T090000
END:STANDARD
BEGIN:DAYLIGHT
TZOFFSETFROM:-0800
TZOFFSETTO:-0700
TZNAME:PDT
DTSTART:20190310T100000
END:DAYLIGHT
BEGIN:STANDARD
TZOFFSETFROM:-0700
TZOFFSETTO:-0800
TZNAME:PST
DTSTART:20191103T090000
END:STANDARD
BEGIN:DAYLIGHT
TZOFFSETFROM:-0800
TZOFFSETTO:-0700
TZNAME:PDT
DTSTART:20200308T100000
END:DAYLIGHT
BEGIN:STANDARD
TZOFFSETFROM:-0700
TZOFFSETTO:-0800
TZNAME:PST
DTSTART:20201101T090000
END:STANDARD
END:VTIMEZONE
BEGIN:VEVENT
DTSTART;TZID=America/Vancouver:20190824T200000
DTEND;TZID=America/Vancouver:20190824T235500
DTSTAMP:20260419T073302
CREATED:20190819T072607Z
LAST-MODIFIED:20190819T072607Z
UID:4083-1566676800-1566690900@theheritagegrill.com
SUMMARY:MIKE VAN EYES BAND
DESCRIPTION:
URL:http://theheritagegrill.com/event/mike-van-eyes-band-12/
LOCATION:The Heritage Grill\, 447 Columbia Street\, New Westminster\, British Columbia\, V3L1A9\, Canada
CATEGORIES:Boogie Woogie
END:VEVENT
BEGIN:VEVENT
DTSTART;TZID=America/Vancouver:20190823T200000
DTEND;TZID=America/Vancouver:20190823T235500
DTSTAMP:20260419T073302
CREATED:20190819T072511Z
LAST-MODIFIED:20190819T072511Z
UID:4081-1566590400-1566604500@theheritagegrill.com
SUMMARY:COREY LAVIGNE BAND
DESCRIPTION:
URL:http://theheritagegrill.com/event/corey-lavigne-band-6/
LOCATION:The Heritage Grill\, 447 Columbia Street\, New Westminster\, British Columbia\, V3L1A9\, Canada
CATEGORIES:Blues
END:VEVENT
BEGIN:VEVENT
DTSTART;TZID=America/Vancouver:20190822T200000
DTEND;TZID=America/Vancouver:20190822T235500
DTSTAMP:20260419T073302
CREATED:20190819T072421Z
LAST-MODIFIED:20190819T072421Z
UID:4079-1566504000-1566518100@theheritagegrill.com
SUMMARY:BLUE VOODOO
DESCRIPTION:
URL:http://theheritagegrill.com/event/blue-voodoo-50/
LOCATION:The Heritage Grill\, 447 Columbia Street\, New Westminster\, British Columbia\, V3L1A9\, Canada
CATEGORIES:Blues
END:VEVENT
BEGIN:VEVENT
DTSTART;TZID=America/Vancouver:20190821T200000
DTEND;TZID=America/Vancouver:20190821T235500
DTSTAMP:20260419T073302
CREATED:20190819T072312Z
LAST-MODIFIED:20190819T072312Z
UID:4075-1566417600-1566431700@theheritagegrill.com
SUMMARY:RYLEY & KAYLAR
DESCRIPTION:
URL:http://theheritagegrill.com/event/ryley-kaylar/
LOCATION:The Heritage Grill\, 447 Columbia Street\, New Westminster\, British Columbia\, V3L1A9\, Canada
CATEGORIES:R&B Soul
END:VEVENT
BEGIN:VEVENT
DTSTART;TZID=America/Vancouver:20190818T200000
DTEND;TZID=America/Vancouver:20190818T235500
DTSTAMP:20260419T073302
CREATED:20190819T072346Z
LAST-MODIFIED:20190819T073041Z
UID:4077-1566158400-1566172500@theheritagegrill.com
SUMMARY:NO FUN
DESCRIPTION:
URL:http://theheritagegrill.com/event/no-fun/
LOCATION:The Heritage Grill\, 447 Columbia Street\, New Westminster\, British Columbia\, V3L1A9\, Canada
CATEGORIES:Folk Rock
END:VEVENT
BEGIN:VEVENT
DTSTART;TZID=America/Vancouver:20190806T200000
DTEND;TZID=America/Vancouver:20190806T235500
DTSTAMP:20260419T073302
CREATED:20190819T073237Z
LAST-MODIFIED:20190825T235301Z
UID:4095-1565121600-1565135700@theheritagegrill.com
SUMMARY:ALL-STAR ROCK JAM
DESCRIPTION:
URL:http://theheritagegrill.com/event/all-star-rock-jam-4/
LOCATION:The Heritage Grill\, 447 Columbia Street\, New Westminster\, British Columbia\, V3L1A9\, Canada
CATEGORIES:Classic Rock
END:VEVENT
BEGIN:VEVENT
DTSTART;TZID=America/Vancouver:20190805T200000
DTEND;TZID=America/Vancouver:20190805T235500
DTSTAMP:20260419T073302
CREATED:20190819T073130Z
LAST-MODIFIED:20190825T235417Z
UID:4093-1565035200-1565049300@theheritagegrill.com
SUMMARY:OPEN MIC
DESCRIPTION:
URL:http://theheritagegrill.com/event/open-mic-25/
LOCATION:The Heritage Grill\, 447 Columbia Street\, New Westminster\, British Columbia\, V3L1A9\, Canada
CATEGORIES:Singer/Songwriter
END:VEVENT
BEGIN:VEVENT
DTSTART;TZID=America/Vancouver:20190810T200000
DTEND;TZID=America/Vancouver:20190810T235500
DTSTAMP:20260419T073302
CREATED:20190808T020129Z
LAST-MODIFIED:20190808T020129Z
UID:4071-1565467200-1565481300@theheritagegrill.com
SUMMARY:MIKE MACHADO TRIO
DESCRIPTION:
URL:http://theheritagegrill.com/event/mike-machado-trio-14/
LOCATION:The Heritage Grill\, 447 Columbia Street\, New Westminster\, British Columbia\, V3L1A9\, Canada
CATEGORIES:Blues
END:VEVENT
BEGIN:VEVENT
DTSTART;TZID=America/Vancouver:20190809T200000
DTEND;TZID=America/Vancouver:20190809T235500
DTSTAMP:20260419T073302
CREATED:20190808T020056Z
LAST-MODIFIED:20190808T020056Z
UID:4069-1565380800-1565394900@theheritagegrill.com
SUMMARY:HALIFAX WHARF RATS
DESCRIPTION:
URL:http://theheritagegrill.com/event/halifax-wharf-rats-52/
LOCATION:The Heritage Grill\, 447 Columbia Street\, New Westminster\, British Columbia\, V3L1A9\, Canada
END:VEVENT
BEGIN:VEVENT
DTSTART;TZID=America/Vancouver:20190808T200000
DTEND;TZID=America/Vancouver:20190808T235500
DTSTAMP:20260419T073302
CREATED:20190808T020025Z
LAST-MODIFIED:20190808T020025Z
UID:4067-1565294400-1565308500@theheritagegrill.com
SUMMARY:PARNO DROM
DESCRIPTION:
URL:http://theheritagegrill.com/event/parno-drom-18/
LOCATION:The Heritage Grill\, 447 Columbia Street\, New Westminster\, British Columbia\, V3L1A9\, Canada
CATEGORIES:Gypsy/Eastern Europe
END:VEVENT
BEGIN:VEVENT
DTSTART;TZID=America/Vancouver:20190807T200000
DTEND;TZID=America/Vancouver:20190808T235500
DTSTAMP:20260419T073302
CREATED:20190808T015919Z
LAST-MODIFIED:20190808T015919Z
UID:4065-1565208000-1565308500@theheritagegrill.com
SUMMARY:BARRETT & SONS
DESCRIPTION:
URL:http://theheritagegrill.com/event/barrett-sons-3/
LOCATION:The Heritage Grill\, 447 Columbia Street\, New Westminster\, British Columbia\, V3L1A9\, Canada
CATEGORIES:Jazz
END:VEVENT
BEGIN:VEVENT
DTSTART;TZID=America/Vancouver:20190803T200000
DTEND;TZID=America/Vancouver:20190803T235500
DTSTAMP:20260419T073302
CREATED:20190802T014249Z
LAST-MODIFIED:20190802T014249Z
UID:4061-1564862400-1564876500@theheritagegrill.com
SUMMARY:RED STARS
DESCRIPTION:
URL:http://theheritagegrill.com/event/red-stars-3/
LOCATION:The Heritage Grill\, 447 Columbia Street\, New Westminster\, British Columbia\, V3L1A9\, Canada
CATEGORIES:Roots n Blues
END:VEVENT
BEGIN:VEVENT
DTSTART;TZID=America/Vancouver:20190802T200000
DTEND;TZID=America/Vancouver:20190802T235500
DTSTAMP:20260419T073302
CREATED:20190802T014209Z
LAST-MODIFIED:20190802T014209Z
UID:4059-1564776000-1564790100@theheritagegrill.com
SUMMARY:HONEYBOY WILSON
DESCRIPTION:
URL:http://theheritagegrill.com/event/honeyboy-wilson-28/
LOCATION:The Heritage Grill\, 447 Columbia Street\, New Westminster\, British Columbia\, V3L1A9\, Canada
CATEGORIES:Blues
END:VEVENT
BEGIN:VEVENT
DTSTART;TZID=America/Vancouver:20190801T200000
DTEND;TZID=America/Vancouver:20190801T235500
DTSTAMP:20260419T073302
CREATED:20190802T014139Z
LAST-MODIFIED:20190808T015954Z
UID:4057-1564689600-1564703700@theheritagegrill.com
SUMMARY:THE GRAVEL-AIRES with JESSE WALDMAN
DESCRIPTION:
URL:http://theheritagegrill.com/event/the-gravel-aires-with-jesse-waldman/
LOCATION:The Heritage Grill\, 447 Columbia Street\, New Westminster\, British Columbia\, V3L1A9\, Canada
CATEGORIES:Roots n Blues
END:VEVENT
BEGIN:VEVENT
DTSTART;TZID=America/Vancouver:20190731T200000
DTEND;TZID=America/Vancouver:20190731T235500
DTSTAMP:20260419T073302
CREATED:20190624T052901Z
LAST-MODIFIED:20190624T052901Z
UID:4050-1564603200-1564617300@theheritagegrill.com
SUMMARY:UKE JOINT
DESCRIPTION:
URL:http://theheritagegrill.com/event/uke-joint-57/
LOCATION:The Heritage Grill\, 447 Columbia Street\, New Westminster\, British Columbia\, V3L1A9\, Canada
CATEGORIES:Ukulele
END:VEVENT
BEGIN:VEVENT
DTSTART;TZID=America/Vancouver:20190728T190000
DTEND;TZID=America/Vancouver:20190728T213000
DTSTAMP:20260419T073302
CREATED:20190624T052456Z
LAST-MODIFIED:20190624T052456Z
UID:4044-1564340400-1564349400@theheritagegrill.com
SUMMARY:THE DRAG SHOW
DESCRIPTION:
URL:http://theheritagegrill.com/event/the-drag-show-24/
LOCATION:The Heritage Grill\, 447 Columbia Street\, New Westminster\, British Columbia\, V3L1A9\, Canada
CATEGORIES:Theatre
END:VEVENT
BEGIN:VEVENT
DTSTART;TZID=America/Vancouver:20190727T200000
DTEND;TZID=America/Vancouver:20190727T235500
DTSTAMP:20260419T073302
CREATED:20190624T052418Z
LAST-MODIFIED:20190624T052418Z
UID:4042-1564257600-1564271700@theheritagegrill.com
SUMMARY:CHOPPER & THE SAUCERMEN
DESCRIPTION:
URL:http://theheritagegrill.com/event/chopper-the-saucermen-7/
LOCATION:The Heritage Grill\, 447 Columbia Street\, New Westminster\, British Columbia\, V3L1A9\, Canada
CATEGORIES:Surf n' Turf
END:VEVENT
BEGIN:VEVENT
DTSTART;TZID=America/Vancouver:20190726T200000
DTEND;TZID=America/Vancouver:20190726T235500
DTSTAMP:20260419T073302
CREATED:20190624T052338Z
LAST-MODIFIED:20190624T052338Z
UID:4040-1564171200-1564185300@theheritagegrill.com
SUMMARY:2-BIT HORSE
DESCRIPTION:
URL:http://theheritagegrill.com/event/2-bit-horse-59/
LOCATION:The Heritage Grill\, 447 Columbia Street\, New Westminster\, British Columbia\, V3L1A9\, Canada
CATEGORIES:Rockabilly
END:VEVENT
BEGIN:VEVENT
DTSTART;TZID=America/Vancouver:20190707T200000
DTEND;TZID=America/Vancouver:20190707T235500
DTSTAMP:20260419T073302
CREATED:20190624T051814Z
LAST-MODIFIED:20190624T051814Z
UID:4026-1562529600-1562543700@theheritagegrill.com
SUMMARY:SUPER ROCK SUN DAZE
DESCRIPTION:
URL:http://theheritagegrill.com/event/super-rock-sun-daze-11/
LOCATION:The Heritage Grill\, 447 Columbia Street\, New Westminster\, British Columbia\, V3L1A9\, Canada
CATEGORIES:Rock
END:VEVENT
BEGIN:VEVENT
DTSTART;TZID=America/Vancouver:20190720T200000
DTEND;TZID=America/Vancouver:20190720T235500
DTSTAMP:20260419T073302
CREATED:20190624T052239Z
LAST-MODIFIED:20190624T052239Z
UID:4038-1563652800-1563666900@theheritagegrill.com
SUMMARY:HALIFAX WHARF RATS
DESCRIPTION:
URL:http://theheritagegrill.com/event/halifax-wharf-rats-51/
LOCATION:The Heritage Grill\, 447 Columbia Street\, New Westminster\, British Columbia\, V3L1A9\, Canada
CATEGORIES:East Coast Party
END:VEVENT
BEGIN:VEVENT
DTSTART;TZID=America/Vancouver:20190718T200000
DTEND;TZID=America/Vancouver:20190718T235500
DTSTAMP:20260419T073302
CREATED:20190719T033256Z
LAST-MODIFIED:20190719T033349Z
UID:4053-1563480000-1563494100@theheritagegrill.com
SUMMARY:TABASKO DUO
DESCRIPTION:
URL:http://theheritagegrill.com/event/tabasko-duo/
LOCATION:The Heritage Grill\, 447 Columbia Street\, New Westminster\, British Columbia\, V3L1A9\, Canada
CATEGORIES:Latin
END:VEVENT
BEGIN:VEVENT
DTSTART;TZID=America/Vancouver:20190718T200000
DTEND;TZID=America/Vancouver:20190718T235500
DTSTAMP:20260419T073302
CREATED:20190624T052622Z
LAST-MODIFIED:20190624T052622Z
UID:4046-1563480000-1563494100@theheritagegrill.com
SUMMARY:NEW WEST WRECKERS
DESCRIPTION:
URL:http://theheritagegrill.com/event/new-west-wreckers-2/
LOCATION:The Heritage Grill\, 447 Columbia Street\, New Westminster\, British Columbia\, V3L1A9\, Canada
CATEGORIES:Roots n Blues
END:VEVENT
BEGIN:VEVENT
DTSTART;TZID=America/Vancouver:20190713T200000
DTEND;TZID=America/Vancouver:20190713T235500
DTSTAMP:20260419T073302
CREATED:20190624T052154Z
LAST-MODIFIED:20190624T052154Z
UID:4036-1563048000-1563062100@theheritagegrill.com
SUMMARY:MUD BAY
DESCRIPTION:
URL:http://theheritagegrill.com/event/mud-bay-5/
LOCATION:The Heritage Grill\, 447 Columbia Street\, New Westminster\, British Columbia\, V3L1A9\, Canada
CATEGORIES:Blues
END:VEVENT
BEGIN:VEVENT
DTSTART;TZID=America/Vancouver:20190712T200000
DTEND;TZID=America/Vancouver:20190712T235500
DTSTAMP:20260419T073302
CREATED:20190624T052111Z
LAST-MODIFIED:20190624T052111Z
UID:4034-1562961600-1562975700@theheritagegrill.com
SUMMARY:LAS DIVAS
DESCRIPTION:
URL:http://theheritagegrill.com/event/las-divas-9/
LOCATION:The Heritage Grill\, 447 Columbia Street\, New Westminster\, British Columbia\, V3L1A9\, Canada
CATEGORIES:Classic Rock
END:VEVENT
BEGIN:VEVENT
DTSTART;TZID=America/Vancouver:20190711T200000
DTEND;TZID=America/Vancouver:20190711T235500
DTSTAMP:20260419T073302
CREATED:20190624T052802Z
LAST-MODIFIED:20190624T052802Z
UID:4048-1562875200-1562889300@theheritagegrill.com
SUMMARY:PARNO DROM
DESCRIPTION:
URL:http://theheritagegrill.com/event/parno-drom-17/
LOCATION:The Heritage Grill\, 447 Columbia Street\, New Westminster\, British Columbia\, V3L1A9\, Canada
CATEGORIES:Gypsy/Eastern Europe
END:VEVENT
BEGIN:VEVENT
DTSTART;TZID=America/Vancouver:20190706T200000
DTEND;TZID=America/Vancouver:20190706T235500
DTSTAMP:20260419T073302
CREATED:20190624T052030Z
LAST-MODIFIED:20190624T052030Z
UID:4032-1562443200-1562457300@theheritagegrill.com
SUMMARY:MOJO STARS
DESCRIPTION:
URL:http://theheritagegrill.com/event/mojo-stars-8/
LOCATION:The Heritage Grill\, 447 Columbia Street\, New Westminster\, British Columbia\, V3L1A9\, Canada
CATEGORIES:R&B Soul
END:VEVENT
BEGIN:VEVENT
DTSTART;TZID=America/Vancouver:20190705T200000
DTEND;TZID=America/Vancouver:20190705T235500
DTSTAMP:20260419T073302
CREATED:20190624T051951Z
LAST-MODIFIED:20190624T051951Z
UID:4030-1562356800-1562370900@theheritagegrill.com
SUMMARY:ROYAL CITY ROCKERS
DESCRIPTION:
URL:http://theheritagegrill.com/event/royal-city-rockers-3/
LOCATION:The Heritage Grill\, 447 Columbia Street\, New Westminster\, British Columbia\, V3L1A9\, Canada
CATEGORIES:Classic Rock
END:VEVENT
BEGIN:VEVENT
DTSTART;TZID=America/Vancouver:20190703T200000
DTEND;TZID=America/Vancouver:20190703T235500
DTSTAMP:20260419T073302
CREATED:20190624T051904Z
LAST-MODIFIED:20190624T051904Z
UID:4028-1562184000-1562198100@theheritagegrill.com
SUMMARY:BARRETT & SON
DESCRIPTION:
URL:http://theheritagegrill.com/event/barrett-son-21/
LOCATION:The Heritage Grill\, 447 Columbia Street\, New Westminster\, British Columbia\, V3L1A9\, Canada
CATEGORIES:Jazz
END:VEVENT
BEGIN:VEVENT
DTSTART;TZID=America/Vancouver:20190630T200000
DTEND;TZID=America/Vancouver:20190630T235500
DTSTAMP:20260419T073302
CREATED:20190611T044954Z
LAST-MODIFIED:20190611T044954Z
UID:4019-1561924800-1561938900@theheritagegrill.com
SUMMARY:THE DRAG SHOW
DESCRIPTION:
URL:http://theheritagegrill.com/event/the-drag-show-23/
LOCATION:The Heritage Grill\, 447 Columbia Street\, New Westminster\, British Columbia\, V3L1A9\, Canada
CATEGORIES:Theatre
END:VEVENT
BEGIN:VEVENT
DTSTART;TZID=America/Vancouver:20190629T200000
DTEND;TZID=America/Vancouver:20190629T235500
DTSTAMP:20260419T073302
CREATED:20190611T044549Z
LAST-MODIFIED:20190611T044549Z
UID:4015-1561838400-1561852500@theheritagegrill.com
SUMMARY:OLIVER & THE ELEMENTS
DESCRIPTION:
URL:http://theheritagegrill.com/event/oliver-the-elements-4/
LOCATION:The Heritage Grill\, 447 Columbia Street\, New Westminster\, British Columbia\, V3L1A9\, Canada
CATEGORIES:Roots n Blues
END:VEVENT
END:VCALENDAR