BEGIN:VCALENDAR
VERSION:2.0
PRODID:-//The Heritage Grill - ECPv6.15.17//NONSGML v1.0//EN
CALSCALE:GREGORIAN
METHOD:PUBLISH
X-WR-CALNAME:The Heritage Grill
X-ORIGINAL-URL:http://theheritagegrill.com
X-WR-CALDESC:Events for The Heritage Grill
REFRESH-INTERVAL;VALUE=DURATION:PT1H
X-Robots-Tag:noindex
X-PUBLISHED-TTL:PT1H
BEGIN:VTIMEZONE
TZID:America/Vancouver
BEGIN:DAYLIGHT
TZOFFSETFROM:-0800
TZOFFSETTO:-0700
TZNAME:PDT
DTSTART:20180311T100000
END:DAYLIGHT
BEGIN:STANDARD
TZOFFSETFROM:-0700
TZOFFSETTO:-0800
TZNAME:PST
DTSTART:20181104T090000
END:STANDARD
BEGIN:DAYLIGHT
TZOFFSETFROM:-0800
TZOFFSETTO:-0700
TZNAME:PDT
DTSTART:20190310T100000
END:DAYLIGHT
BEGIN:STANDARD
TZOFFSETFROM:-0700
TZOFFSETTO:-0800
TZNAME:PST
DTSTART:20191103T090000
END:STANDARD
BEGIN:DAYLIGHT
TZOFFSETFROM:-0800
TZOFFSETTO:-0700
TZNAME:PDT
DTSTART:20200308T100000
END:DAYLIGHT
BEGIN:STANDARD
TZOFFSETFROM:-0700
TZOFFSETTO:-0800
TZNAME:PST
DTSTART:20201101T090000
END:STANDARD
END:VTIMEZONE
BEGIN:VEVENT
DTSTART;TZID=America/Vancouver:20190718T200000
DTEND;TZID=America/Vancouver:20190718T235500
DTSTAMP:20260419T105658
CREATED:20190719T033256Z
LAST-MODIFIED:20190719T033349Z
UID:4053-1563480000-1563494100@theheritagegrill.com
SUMMARY:TABASKO DUO
DESCRIPTION:
URL:http://theheritagegrill.com/event/tabasko-duo/
LOCATION:The Heritage Grill\, 447 Columbia Street\, New Westminster\, British Columbia\, V3L1A9\, Canada
CATEGORIES:Latin
END:VEVENT
BEGIN:VEVENT
DTSTART;TZID=America/Vancouver:20190718T200000
DTEND;TZID=America/Vancouver:20190718T235500
DTSTAMP:20260419T105658
CREATED:20190624T052622Z
LAST-MODIFIED:20190624T052622Z
UID:4046-1563480000-1563494100@theheritagegrill.com
SUMMARY:NEW WEST WRECKERS
DESCRIPTION:
URL:http://theheritagegrill.com/event/new-west-wreckers-2/
LOCATION:The Heritage Grill\, 447 Columbia Street\, New Westminster\, British Columbia\, V3L1A9\, Canada
CATEGORIES:Roots n Blues
END:VEVENT
BEGIN:VEVENT
DTSTART;TZID=America/Vancouver:20190713T200000
DTEND;TZID=America/Vancouver:20190713T235500
DTSTAMP:20260419T105658
CREATED:20190624T052154Z
LAST-MODIFIED:20190624T052154Z
UID:4036-1563048000-1563062100@theheritagegrill.com
SUMMARY:MUD BAY
DESCRIPTION:
URL:http://theheritagegrill.com/event/mud-bay-5/
LOCATION:The Heritage Grill\, 447 Columbia Street\, New Westminster\, British Columbia\, V3L1A9\, Canada
CATEGORIES:Blues
END:VEVENT
BEGIN:VEVENT
DTSTART;TZID=America/Vancouver:20190712T200000
DTEND;TZID=America/Vancouver:20190712T235500
DTSTAMP:20260419T105658
CREATED:20190624T052111Z
LAST-MODIFIED:20190624T052111Z
UID:4034-1562961600-1562975700@theheritagegrill.com
SUMMARY:LAS DIVAS
DESCRIPTION:
URL:http://theheritagegrill.com/event/las-divas-9/
LOCATION:The Heritage Grill\, 447 Columbia Street\, New Westminster\, British Columbia\, V3L1A9\, Canada
CATEGORIES:Classic Rock
END:VEVENT
BEGIN:VEVENT
DTSTART;TZID=America/Vancouver:20190711T200000
DTEND;TZID=America/Vancouver:20190711T235500
DTSTAMP:20260419T105658
CREATED:20190624T052802Z
LAST-MODIFIED:20190624T052802Z
UID:4048-1562875200-1562889300@theheritagegrill.com
SUMMARY:PARNO DROM
DESCRIPTION:
URL:http://theheritagegrill.com/event/parno-drom-17/
LOCATION:The Heritage Grill\, 447 Columbia Street\, New Westminster\, British Columbia\, V3L1A9\, Canada
CATEGORIES:Gypsy/Eastern Europe
END:VEVENT
BEGIN:VEVENT
DTSTART;TZID=America/Vancouver:20190706T200000
DTEND;TZID=America/Vancouver:20190706T235500
DTSTAMP:20260419T105658
CREATED:20190624T052030Z
LAST-MODIFIED:20190624T052030Z
UID:4032-1562443200-1562457300@theheritagegrill.com
SUMMARY:MOJO STARS
DESCRIPTION:
URL:http://theheritagegrill.com/event/mojo-stars-8/
LOCATION:The Heritage Grill\, 447 Columbia Street\, New Westminster\, British Columbia\, V3L1A9\, Canada
CATEGORIES:R&B Soul
END:VEVENT
BEGIN:VEVENT
DTSTART;TZID=America/Vancouver:20190705T200000
DTEND;TZID=America/Vancouver:20190705T235500
DTSTAMP:20260419T105658
CREATED:20190624T051951Z
LAST-MODIFIED:20190624T051951Z
UID:4030-1562356800-1562370900@theheritagegrill.com
SUMMARY:ROYAL CITY ROCKERS
DESCRIPTION:
URL:http://theheritagegrill.com/event/royal-city-rockers-3/
LOCATION:The Heritage Grill\, 447 Columbia Street\, New Westminster\, British Columbia\, V3L1A9\, Canada
CATEGORIES:Classic Rock
END:VEVENT
BEGIN:VEVENT
DTSTART;TZID=America/Vancouver:20190703T200000
DTEND;TZID=America/Vancouver:20190703T235500
DTSTAMP:20260419T105658
CREATED:20190624T051904Z
LAST-MODIFIED:20190624T051904Z
UID:4028-1562184000-1562198100@theheritagegrill.com
SUMMARY:BARRETT & SON
DESCRIPTION:
URL:http://theheritagegrill.com/event/barrett-son-21/
LOCATION:The Heritage Grill\, 447 Columbia Street\, New Westminster\, British Columbia\, V3L1A9\, Canada
CATEGORIES:Jazz
END:VEVENT
BEGIN:VEVENT
DTSTART;TZID=America/Vancouver:20190630T200000
DTEND;TZID=America/Vancouver:20190630T235500
DTSTAMP:20260419T105658
CREATED:20190611T044954Z
LAST-MODIFIED:20190611T044954Z
UID:4019-1561924800-1561938900@theheritagegrill.com
SUMMARY:THE DRAG SHOW
DESCRIPTION:
URL:http://theheritagegrill.com/event/the-drag-show-23/
LOCATION:The Heritage Grill\, 447 Columbia Street\, New Westminster\, British Columbia\, V3L1A9\, Canada
CATEGORIES:Theatre
END:VEVENT
BEGIN:VEVENT
DTSTART;TZID=America/Vancouver:20190629T200000
DTEND;TZID=America/Vancouver:20190629T235500
DTSTAMP:20260419T105658
CREATED:20190611T044549Z
LAST-MODIFIED:20190611T044549Z
UID:4015-1561838400-1561852500@theheritagegrill.com
SUMMARY:OLIVER & THE ELEMENTS
DESCRIPTION:
URL:http://theheritagegrill.com/event/oliver-the-elements-4/
LOCATION:The Heritage Grill\, 447 Columbia Street\, New Westminster\, British Columbia\, V3L1A9\, Canada
CATEGORIES:Roots n Blues
END:VEVENT
BEGIN:VEVENT
DTSTART;TZID=America/Vancouver:20190628T200000
DTEND;TZID=America/Vancouver:20190628T235500
DTSTAMP:20260419T105658
CREATED:20190611T044410Z
LAST-MODIFIED:20190611T044410Z
UID:4013-1561752000-1561766100@theheritagegrill.com
SUMMARY:2-BIT HORSE
DESCRIPTION:
URL:http://theheritagegrill.com/event/2-bit-horse-58/
LOCATION:The Heritage Grill\, 447 Columbia Street\, New Westminster\, British Columbia\, V3L1A9\, Canada
CATEGORIES:Rockabilly
END:VEVENT
BEGIN:VEVENT
DTSTART;TZID=America/Vancouver:20190627T200000
DTEND;TZID=America/Vancouver:20190627T235500
DTSTAMP:20260419T105658
CREATED:20190611T044320Z
LAST-MODIFIED:20190611T044320Z
UID:4011-1561665600-1561679700@theheritagegrill.com
SUMMARY:LEONARD & LAB RATS
DESCRIPTION:
URL:http://theheritagegrill.com/event/leonard-lab-rats/
LOCATION:The Heritage Grill\, 447 Columbia Street\, New Westminster\, British Columbia\, V3L1A9\, Canada
CATEGORIES:Roots n Blues
END:VEVENT
BEGIN:VEVENT
DTSTART;TZID=America/Vancouver:20190626T200000
DTEND;TZID=America/Vancouver:20190626T235500
DTSTAMP:20260419T105658
CREATED:20190611T044222Z
LAST-MODIFIED:20190611T044222Z
UID:4009-1561579200-1561593300@theheritagegrill.com
SUMMARY:UKE JOINT
DESCRIPTION:
URL:http://theheritagegrill.com/event/uke-joint-56/
LOCATION:The Heritage Grill\, 447 Columbia Street\, New Westminster\, British Columbia\, V3L1A9\, Canada
CATEGORIES:Ukulele
END:VEVENT
BEGIN:VEVENT
DTSTART;TZID=America/Vancouver:20190623T200000
DTEND;TZID=America/Vancouver:20190623T235500
DTSTAMP:20260419T105658
CREATED:20190611T044811Z
LAST-MODIFIED:20190611T044811Z
UID:4017-1561320000-1561334100@theheritagegrill.com
SUMMARY:ZEN JUNKIE
DESCRIPTION:
URL:http://theheritagegrill.com/event/zen-junkie-7/
LOCATION:The Heritage Grill\, 447 Columbia Street\, New Westminster\, British Columbia\, V3L1A9\, Canada
CATEGORIES:Rock
END:VEVENT
BEGIN:VEVENT
DTSTART;TZID=America/Vancouver:20190622T200000
DTEND;TZID=America/Vancouver:20190622T235500
DTSTAMP:20260419T105658
CREATED:20190611T044127Z
LAST-MODIFIED:20190611T044127Z
UID:4007-1561233600-1561247700@theheritagegrill.com
SUMMARY:COREY LAVIGNE BAND
DESCRIPTION:
URL:http://theheritagegrill.com/event/corey-lavigne-band-5/
LOCATION:The Heritage Grill\, 447 Columbia Street\, New Westminster\, British Columbia\, V3L1A9\, Canada
CATEGORIES:Blues
END:VEVENT
BEGIN:VEVENT
DTSTART;TZID=America/Vancouver:20190621T200000
DTEND;TZID=America/Vancouver:20190621T235500
DTSTAMP:20260419T105658
CREATED:20190611T042839Z
LAST-MODIFIED:20190611T042839Z
UID:4005-1561147200-1561161300@theheritagegrill.com
SUMMARY:MIKE VAN EYES BAND
DESCRIPTION:
URL:http://theheritagegrill.com/event/mike-van-eyes-band-11/
LOCATION:The Heritage Grill\, 447 Columbia Street\, New Westminster\, British Columbia\, V3L1A9\, Canada
CATEGORIES:Boogie Woogie
END:VEVENT
BEGIN:VEVENT
DTSTART;TZID=America/Vancouver:20190620T200000
DTEND;TZID=America/Vancouver:20190620T235500
DTSTAMP:20260419T105658
CREATED:20190611T042710Z
LAST-MODIFIED:20190611T042710Z
UID:4003-1561060800-1561074900@theheritagegrill.com
SUMMARY:BLUE VOODOO
DESCRIPTION:
URL:http://theheritagegrill.com/event/blue-voodoo-49/
LOCATION:The Heritage Grill\, 447 Columbia Street\, New Westminster\, British Columbia\, V3L1A9\, Canada
CATEGORIES:Blues
END:VEVENT
BEGIN:VEVENT
DTSTART;TZID=America/Vancouver:20190619T200000
DTEND;TZID=America/Vancouver:20190619T235500
DTSTAMP:20260419T105658
CREATED:20190611T042625Z
LAST-MODIFIED:20190611T042625Z
UID:4001-1560974400-1560988500@theheritagegrill.com
SUMMARY:TAVARES
DESCRIPTION:
URL:http://theheritagegrill.com/event/tavares-54/
LOCATION:The Heritage Grill\, 447 Columbia Street\, New Westminster\, British Columbia\, V3L1A9\, Canada
CATEGORIES:Singer/Songwriter
END:VEVENT
BEGIN:VEVENT
DTSTART;TZID=America/Vancouver:20190616T200000
DTEND;TZID=America/Vancouver:20190616T235500
DTSTAMP:20260419T105658
CREATED:20190611T042443Z
LAST-MODIFIED:20190611T042443Z
UID:3999-1560715200-1560729300@theheritagegrill.com
SUMMARY:TERRY MAPLE
DESCRIPTION:
URL:http://theheritagegrill.com/event/terry-maple-2/
LOCATION:The Heritage Grill\, 447 Columbia Street\, New Westminster\, British Columbia\, V3L1A9\, Canada
CATEGORIES:Singer/Songwriter
END:VEVENT
BEGIN:VEVENT
DTSTART;TZID=America/Vancouver:20190615T200000
DTEND;TZID=America/Vancouver:20190615T235500
DTSTAMP:20260419T105658
CREATED:20190611T042321Z
LAST-MODIFIED:20190611T042321Z
UID:3997-1560628800-1560642900@theheritagegrill.com
SUMMARY:RED STARS
DESCRIPTION:
URL:http://theheritagegrill.com/event/red-stars-2/
LOCATION:The Heritage Grill\, 447 Columbia Street\, New Westminster\, British Columbia\, V3L1A9\, Canada
CATEGORIES:R&B Soul
END:VEVENT
BEGIN:VEVENT
DTSTART;TZID=America/Vancouver:20190614T200000
DTEND;TZID=America/Vancouver:20190614T235500
DTSTAMP:20260419T105658
CREATED:20190611T042132Z
LAST-MODIFIED:20190611T042132Z
UID:3994-1560542400-1560556500@theheritagegrill.com
SUMMARY:MIKE MACHADO TRIO
DESCRIPTION:
URL:http://theheritagegrill.com/event/mike-machado-trio-13/
LOCATION:The Heritage Grill\, 447 Columbia Street\, New Westminster\, British Columbia\, V3L1A9\, Canada
CATEGORIES:Blues
END:VEVENT
BEGIN:VEVENT
DTSTART;TZID=America/Vancouver:20190613T200000
DTEND;TZID=America/Vancouver:20190613T235500
DTSTAMP:20260419T105658
CREATED:20190611T042037Z
LAST-MODIFIED:20190611T042037Z
UID:3992-1560456000-1560470100@theheritagegrill.com
SUMMARY:NWSS JAZZ PROGRAM
DESCRIPTION:
URL:http://theheritagegrill.com/event/nwss-jazz-program-2/
LOCATION:The Heritage Grill\, 447 Columbia Street\, New Westminster\, British Columbia\, V3L1A9\, Canada
CATEGORIES:Jazz
END:VEVENT
BEGIN:VEVENT
DTSTART;TZID=America/Vancouver:20190612T200000
DTEND;TZID=America/Vancouver:20190612T235500
DTSTAMP:20260419T105658
CREATED:20190611T041952Z
LAST-MODIFIED:20190611T041952Z
UID:3990-1560369600-1560383700@theheritagegrill.com
SUMMARY:HONEYBOY WILSON
DESCRIPTION:
URL:http://theheritagegrill.com/event/honeyboy-wilson-27/
LOCATION:The Heritage Grill\, 447 Columbia Street\, New Westminster\, British Columbia\, V3L1A9\, Canada
CATEGORIES:Blues
END:VEVENT
BEGIN:VEVENT
DTSTART;TZID=America/Vancouver:20190609T200000
DTEND;TZID=America/Vancouver:20190609T232500
DTSTAMP:20260419T105658
CREATED:20190611T045032Z
LAST-MODIFIED:20190611T045032Z
UID:4021-1560110400-1560122700@theheritagegrill.com
SUMMARY:ERIC BRENT WEST
DESCRIPTION:
URL:http://theheritagegrill.com/event/eric-brent-west/
LOCATION:The Heritage Grill\, 447 Columbia Street\, New Westminster\, British Columbia\, V3L1A9\, Canada
CATEGORIES:Singer/Songwriter
END:VEVENT
BEGIN:VEVENT
DTSTART;TZID=America/Vancouver:20190608T200000
DTEND;TZID=America/Vancouver:20190608T235500
DTSTAMP:20260419T105658
CREATED:20190605T004947Z
LAST-MODIFIED:20190605T004947Z
UID:3983-1560024000-1560038100@theheritagegrill.com
SUMMARY:ROYAL CITY ROCKERS
DESCRIPTION:
URL:http://theheritagegrill.com/event/royal-city-rockers-2/
LOCATION:The Heritage Grill\, 447 Columbia Street\, New Westminster\, British Columbia\, V3L1A9\, Canada
CATEGORIES:Classic Rock
END:VEVENT
BEGIN:VEVENT
DTSTART;TZID=America/Vancouver:20190607T200000
DTEND;TZID=America/Vancouver:20190607T235500
DTSTAMP:20260419T105658
CREATED:20190605T004853Z
LAST-MODIFIED:20190605T004853Z
UID:3981-1559937600-1559951700@theheritagegrill.com
SUMMARY:HALIFAX WHARF RATS
DESCRIPTION:
URL:http://theheritagegrill.com/event/halifax-wharf-rats-50/
LOCATION:The Heritage Grill\, 447 Columbia Street\, New Westminster\, British Columbia\, V3L1A9\, Canada
CATEGORIES:East Coast Party
END:VEVENT
BEGIN:VEVENT
DTSTART;TZID=America/Vancouver:20190606T200000
DTEND;TZID=America/Vancouver:20190606T235500
DTSTAMP:20260419T105658
CREATED:20190605T004748Z
LAST-MODIFIED:20190605T004748Z
UID:3977-1559851200-1559865300@theheritagegrill.com
SUMMARY:PARNO DROM
DESCRIPTION:
URL:http://theheritagegrill.com/event/parno-drom-16/
LOCATION:The Heritage Grill\, 447 Columbia Street\, New Westminster\, British Columbia\, V3L1A9\, Canada
CATEGORIES:Gypsy/Eastern Europe
END:VEVENT
BEGIN:VEVENT
DTSTART;TZID=America/Vancouver:20190605T200000
DTEND;TZID=America/Vancouver:20190605T235500
DTSTAMP:20260419T105658
CREATED:20190605T004814Z
LAST-MODIFIED:20190605T004814Z
UID:3979-1559764800-1559778900@theheritagegrill.com
SUMMARY:TONY WILSON TRIO
DESCRIPTION:
URL:http://theheritagegrill.com/event/tony-wilson-trio-2/
LOCATION:The Heritage Grill\, 447 Columbia Street\, New Westminster\, British Columbia\, V3L1A9\, Canada
CATEGORIES:Jazz
END:VEVENT
BEGIN:VEVENT
DTSTART;TZID=America/Vancouver:20190601T200000
DTEND;TZID=America/Vancouver:20190601T235500
DTSTAMP:20260419T105658
CREATED:20190531T234332Z
LAST-MODIFIED:20190531T234332Z
UID:3971-1559419200-1559433300@theheritagegrill.com
SUMMARY:NUVO ZYDECO
DESCRIPTION:
URL:http://theheritagegrill.com/event/nuvo-zydeco/
LOCATION:The Heritage Grill\, 447 Columbia Street\, New Westminster\, British Columbia\, V3L1A9\, Canada
CATEGORIES:Zydeco-Cajun
END:VEVENT
BEGIN:VEVENT
DTSTART;TZID=America/Vancouver:20190531T200000
DTEND;TZID=America/Vancouver:20190531T230000
DTSTAMP:20260419T105658
CREATED:20190527T054947Z
LAST-MODIFIED:20190527T055902Z
UID:3967-1559332800-1559343600@theheritagegrill.com
SUMMARY:MARIACHI TABASKO
DESCRIPTION:
URL:http://theheritagegrill.com/event/mariachi-tabasko-2/
LOCATION:The Heritage Grill\, 447 Columbia Street\, New Westminster\, British Columbia\, V3L1A9\, Canada
CATEGORIES:Mariachi
END:VEVENT
END:VCALENDAR