BEGIN:VCALENDAR
VERSION:2.0
PRODID:-//The Heritage Grill - ECPv6.15.17//NONSGML v1.0//EN
CALSCALE:GREGORIAN
METHOD:PUBLISH
X-WR-CALNAME:The Heritage Grill
X-ORIGINAL-URL:http://theheritagegrill.com
X-WR-CALDESC:Events for The Heritage Grill
REFRESH-INTERVAL;VALUE=DURATION:PT1H
X-Robots-Tag:noindex
X-PUBLISHED-TTL:PT1H
BEGIN:VTIMEZONE
TZID:America/Vancouver
BEGIN:DAYLIGHT
TZOFFSETFROM:-0800
TZOFFSETTO:-0700
TZNAME:PDT
DTSTART:20180311T100000
END:DAYLIGHT
BEGIN:STANDARD
TZOFFSETFROM:-0700
TZOFFSETTO:-0800
TZNAME:PST
DTSTART:20181104T090000
END:STANDARD
BEGIN:DAYLIGHT
TZOFFSETFROM:-0800
TZOFFSETTO:-0700
TZNAME:PDT
DTSTART:20190310T100000
END:DAYLIGHT
BEGIN:STANDARD
TZOFFSETFROM:-0700
TZOFFSETTO:-0800
TZNAME:PST
DTSTART:20191103T090000
END:STANDARD
BEGIN:DAYLIGHT
TZOFFSETFROM:-0800
TZOFFSETTO:-0700
TZNAME:PDT
DTSTART:20200308T100000
END:DAYLIGHT
BEGIN:STANDARD
TZOFFSETFROM:-0700
TZOFFSETTO:-0800
TZNAME:PST
DTSTART:20201101T090000
END:STANDARD
END:VTIMEZONE
BEGIN:VEVENT
DTSTART;TZID=America/Vancouver:20190614T200000
DTEND;TZID=America/Vancouver:20190614T235500
DTSTAMP:20260419T143101
CREATED:20190611T042132Z
LAST-MODIFIED:20190611T042132Z
UID:3994-1560542400-1560556500@theheritagegrill.com
SUMMARY:MIKE MACHADO TRIO
DESCRIPTION:
URL:http://theheritagegrill.com/event/mike-machado-trio-13/
LOCATION:The Heritage Grill\, 447 Columbia Street\, New Westminster\, British Columbia\, V3L1A9\, Canada
CATEGORIES:Blues
END:VEVENT
BEGIN:VEVENT
DTSTART;TZID=America/Vancouver:20190613T200000
DTEND;TZID=America/Vancouver:20190613T235500
DTSTAMP:20260419T143101
CREATED:20190611T042037Z
LAST-MODIFIED:20190611T042037Z
UID:3992-1560456000-1560470100@theheritagegrill.com
SUMMARY:NWSS JAZZ PROGRAM
DESCRIPTION:
URL:http://theheritagegrill.com/event/nwss-jazz-program-2/
LOCATION:The Heritage Grill\, 447 Columbia Street\, New Westminster\, British Columbia\, V3L1A9\, Canada
CATEGORIES:Jazz
END:VEVENT
BEGIN:VEVENT
DTSTART;TZID=America/Vancouver:20190612T200000
DTEND;TZID=America/Vancouver:20190612T235500
DTSTAMP:20260419T143101
CREATED:20190611T041952Z
LAST-MODIFIED:20190611T041952Z
UID:3990-1560369600-1560383700@theheritagegrill.com
SUMMARY:HONEYBOY WILSON
DESCRIPTION:
URL:http://theheritagegrill.com/event/honeyboy-wilson-27/
LOCATION:The Heritage Grill\, 447 Columbia Street\, New Westminster\, British Columbia\, V3L1A9\, Canada
CATEGORIES:Blues
END:VEVENT
BEGIN:VEVENT
DTSTART;TZID=America/Vancouver:20190609T200000
DTEND;TZID=America/Vancouver:20190609T232500
DTSTAMP:20260419T143101
CREATED:20190611T045032Z
LAST-MODIFIED:20190611T045032Z
UID:4021-1560110400-1560122700@theheritagegrill.com
SUMMARY:ERIC BRENT WEST
DESCRIPTION:
URL:http://theheritagegrill.com/event/eric-brent-west/
LOCATION:The Heritage Grill\, 447 Columbia Street\, New Westminster\, British Columbia\, V3L1A9\, Canada
CATEGORIES:Singer/Songwriter
END:VEVENT
BEGIN:VEVENT
DTSTART;TZID=America/Vancouver:20190608T200000
DTEND;TZID=America/Vancouver:20190608T235500
DTSTAMP:20260419T143101
CREATED:20190605T004947Z
LAST-MODIFIED:20190605T004947Z
UID:3983-1560024000-1560038100@theheritagegrill.com
SUMMARY:ROYAL CITY ROCKERS
DESCRIPTION:
URL:http://theheritagegrill.com/event/royal-city-rockers-2/
LOCATION:The Heritage Grill\, 447 Columbia Street\, New Westminster\, British Columbia\, V3L1A9\, Canada
CATEGORIES:Classic Rock
END:VEVENT
BEGIN:VEVENT
DTSTART;TZID=America/Vancouver:20190607T200000
DTEND;TZID=America/Vancouver:20190607T235500
DTSTAMP:20260419T143101
CREATED:20190605T004853Z
LAST-MODIFIED:20190605T004853Z
UID:3981-1559937600-1559951700@theheritagegrill.com
SUMMARY:HALIFAX WHARF RATS
DESCRIPTION:
URL:http://theheritagegrill.com/event/halifax-wharf-rats-50/
LOCATION:The Heritage Grill\, 447 Columbia Street\, New Westminster\, British Columbia\, V3L1A9\, Canada
CATEGORIES:East Coast Party
END:VEVENT
BEGIN:VEVENT
DTSTART;TZID=America/Vancouver:20190606T200000
DTEND;TZID=America/Vancouver:20190606T235500
DTSTAMP:20260419T143101
CREATED:20190605T004748Z
LAST-MODIFIED:20190605T004748Z
UID:3977-1559851200-1559865300@theheritagegrill.com
SUMMARY:PARNO DROM
DESCRIPTION:
URL:http://theheritagegrill.com/event/parno-drom-16/
LOCATION:The Heritage Grill\, 447 Columbia Street\, New Westminster\, British Columbia\, V3L1A9\, Canada
CATEGORIES:Gypsy/Eastern Europe
END:VEVENT
BEGIN:VEVENT
DTSTART;TZID=America/Vancouver:20190605T200000
DTEND;TZID=America/Vancouver:20190605T235500
DTSTAMP:20260419T143101
CREATED:20190605T004814Z
LAST-MODIFIED:20190605T004814Z
UID:3979-1559764800-1559778900@theheritagegrill.com
SUMMARY:TONY WILSON TRIO
DESCRIPTION:
URL:http://theheritagegrill.com/event/tony-wilson-trio-2/
LOCATION:The Heritage Grill\, 447 Columbia Street\, New Westminster\, British Columbia\, V3L1A9\, Canada
CATEGORIES:Jazz
END:VEVENT
BEGIN:VEVENT
DTSTART;TZID=America/Vancouver:20190601T200000
DTEND;TZID=America/Vancouver:20190601T235500
DTSTAMP:20260419T143101
CREATED:20190531T234332Z
LAST-MODIFIED:20190531T234332Z
UID:3971-1559419200-1559433300@theheritagegrill.com
SUMMARY:NUVO ZYDECO
DESCRIPTION:
URL:http://theheritagegrill.com/event/nuvo-zydeco/
LOCATION:The Heritage Grill\, 447 Columbia Street\, New Westminster\, British Columbia\, V3L1A9\, Canada
CATEGORIES:Zydeco-Cajun
END:VEVENT
BEGIN:VEVENT
DTSTART;TZID=America/Vancouver:20190531T200000
DTEND;TZID=America/Vancouver:20190531T230000
DTSTAMP:20260419T143101
CREATED:20190527T054947Z
LAST-MODIFIED:20190527T055902Z
UID:3967-1559332800-1559343600@theheritagegrill.com
SUMMARY:MARIACHI TABASKO
DESCRIPTION:
URL:http://theheritagegrill.com/event/mariachi-tabasko-2/
LOCATION:The Heritage Grill\, 447 Columbia Street\, New Westminster\, British Columbia\, V3L1A9\, Canada
CATEGORIES:Mariachi
END:VEVENT
BEGIN:VEVENT
DTSTART;TZID=America/Vancouver:20190530T200000
DTEND;TZID=America/Vancouver:20190530T235500
DTSTAMP:20260419T143101
CREATED:20190527T054841Z
LAST-MODIFIED:20190527T054841Z
UID:3965-1559246400-1559260500@theheritagegrill.com
SUMMARY:NEW WEST WRECKERS
DESCRIPTION:
URL:http://theheritagegrill.com/event/new-west-wreckers/
LOCATION:The Heritage Grill\, 447 Columbia Street\, New Westminster\, British Columbia\, V3L1A9\, Canada
CATEGORIES:Roots n Blues
END:VEVENT
BEGIN:VEVENT
DTSTART;TZID=America/Vancouver:20190529T200000
DTEND;TZID=America/Vancouver:20190529T235500
DTSTAMP:20260419T143101
CREATED:20190303T021202Z
LAST-MODIFIED:20190527T054743Z
UID:3881-1559160000-1559174100@theheritagegrill.com
SUMMARY:UKE JOINT
DESCRIPTION:
URL:http://theheritagegrill.com/event/open-mic-23/
LOCATION:The Heritage Grill\, 447 Columbia Street\, New Westminster\, British Columbia\, V3L1A9\, Canada
CATEGORIES:Ukulele
END:VEVENT
BEGIN:VEVENT
DTSTART;TZID=America/Vancouver:20190527T200000
DTEND;TZID=America/Vancouver:20190527T235500
DTSTAMP:20260419T143101
CREATED:20190527T060021Z
LAST-MODIFIED:20190527T060120Z
UID:3969-1558987200-1559001300@theheritagegrill.com
SUMMARY:OPEN MIC
DESCRIPTION:
URL:http://theheritagegrill.com/event/open-mic-24/
LOCATION:The Heritage Grill\, 447 Columbia Street\, New Westminster\, British Columbia\, V3L1A9\, Canada
CATEGORIES:Singer/Songwriter
END:VEVENT
BEGIN:VEVENT
DTSTART;TZID=America/Vancouver:20190428T190000
DTEND;TZID=America/Vancouver:20190428T213000
DTSTAMP:20260419T143101
CREATED:20190406T200217Z
LAST-MODIFIED:20190406T200217Z
UID:3960-1556478000-1556487000@theheritagegrill.com
SUMMARY:THE DRAG SHOW
DESCRIPTION:
URL:http://theheritagegrill.com/event/the-drag-show-22/
LOCATION:The Heritage Grill\, 447 Columbia Street\, New Westminster\, British Columbia\, V3L1A9\, Canada
CATEGORIES:Theatre
END:VEVENT
BEGIN:VEVENT
DTSTART;TZID=America/Vancouver:20190427T200000
DTEND;TZID=America/Vancouver:20190427T235500
DTSTAMP:20260419T143101
CREATED:20190406T200023Z
LAST-MODIFIED:20190406T200023Z
UID:3956-1556395200-1556409300@theheritagegrill.com
SUMMARY:ELDORADO and friends
DESCRIPTION:
URL:http://theheritagegrill.com/event/eldorado-and-friends/
LOCATION:The Heritage Grill\, 447 Columbia Street\, New Westminster\, British Columbia\, V3L1A9\, Canada
CATEGORIES:Country/Rockabilly
END:VEVENT
BEGIN:VEVENT
DTSTART;TZID=America/Vancouver:20190426T200000
DTEND;TZID=America/Vancouver:20190426T235500
DTSTAMP:20260419T143101
CREATED:20190406T195932Z
LAST-MODIFIED:20190406T195932Z
UID:3954-1556308800-1556322900@theheritagegrill.com
SUMMARY:THE COLORIFICS
DESCRIPTION:
URL:http://theheritagegrill.com/event/the-colorifics-13/
LOCATION:The Heritage Grill\, 447 Columbia Street\, New Westminster\, British Columbia\, V3L1A9\, Canada
CATEGORIES:Upbeat Exotica
END:VEVENT
BEGIN:VEVENT
DTSTART;TZID=America/Vancouver:20190425T200000
DTEND;TZID=America/Vancouver:20190425T235500
DTSTAMP:20260419T143101
CREATED:20190406T195611Z
LAST-MODIFIED:20190406T195611Z
UID:3950-1556222400-1556236500@theheritagegrill.com
SUMMARY:TOQUE FLAMENCO
DESCRIPTION:
URL:http://theheritagegrill.com/event/toque-flamenco/
LOCATION:The Heritage Grill\, 447 Columbia Street\, New Westminster\, British Columbia\, V3L1A9\, Canada
CATEGORIES:Flamenco
END:VEVENT
BEGIN:VEVENT
DTSTART;TZID=America/Vancouver:20190424T200000
DTEND;TZID=America/Vancouver:20190424T235500
DTSTAMP:20260419T143101
CREATED:20190406T195727Z
LAST-MODIFIED:20190406T195727Z
UID:3952-1556136000-1556150100@theheritagegrill.com
SUMMARY:UKE JOINT
DESCRIPTION:
URL:http://theheritagegrill.com/event/uke-joint-55/
LOCATION:The Heritage Grill\, 447 Columbia Street\, New Westminster\, British Columbia\, V3L1A9\, Canada
CATEGORIES:Ukulele
END:VEVENT
BEGIN:VEVENT
DTSTART;TZID=America/Vancouver:20190420T200000
DTEND;TZID=America/Vancouver:20190420T235500
DTSTAMP:20260419T143101
CREATED:20190406T195438Z
LAST-MODIFIED:20190406T195438Z
UID:3948-1555790400-1555804500@theheritagegrill.com
SUMMARY:MIKE VAN EYES
DESCRIPTION:
URL:http://theheritagegrill.com/event/mike-van-eyes-32/
LOCATION:The Heritage Grill\, 447 Columbia Street\, New Westminster\, British Columbia\, V3L1A9\, Canada
CATEGORIES:Boogie Woogie
END:VEVENT
BEGIN:VEVENT
DTSTART;TZID=America/Vancouver:20190419T200000
DTEND;TZID=America/Vancouver:20190419T235500
DTSTAMP:20260419T143101
CREATED:20190406T195352Z
LAST-MODIFIED:20190406T195352Z
UID:3946-1555704000-1555718100@theheritagegrill.com
SUMMARY:RUSTY CREEK
DESCRIPTION:
URL:http://theheritagegrill.com/event/rusty-creek-8/
LOCATION:The Heritage Grill\, 447 Columbia Street\, New Westminster\, British Columbia\, V3L1A9\, Canada
CATEGORIES:Bluegrass
END:VEVENT
BEGIN:VEVENT
DTSTART;TZID=America/Vancouver:20190418T200000
DTEND;TZID=America/Vancouver:20190418T235500
DTSTAMP:20260419T143101
CREATED:20190406T195127Z
LAST-MODIFIED:20190406T195127Z
UID:3944-1555617600-1555631700@theheritagegrill.com
SUMMARY:BLUE VOODOO
DESCRIPTION:
URL:http://theheritagegrill.com/event/blue-voodoo-48/
LOCATION:The Heritage Grill\, 447 Columbia Street\, New Westminster\, British Columbia\, V3L1A9\, Canada
CATEGORIES:Blues
END:VEVENT
BEGIN:VEVENT
DTSTART;TZID=America/Vancouver:20190417T200000
DTEND;TZID=America/Vancouver:20190417T235500
DTSTAMP:20260419T143101
CREATED:20190406T195033Z
LAST-MODIFIED:20190406T195033Z
UID:3942-1555531200-1555545300@theheritagegrill.com
SUMMARY:LEONARD & THE LAB RATS
DESCRIPTION:
URL:http://theheritagegrill.com/event/leonard-the-lab-rats-29/
LOCATION:The Heritage Grill\, 447 Columbia Street\, New Westminster\, British Columbia\, V3L1A9\, Canada
CATEGORIES:Roots n Blues
END:VEVENT
BEGIN:VEVENT
DTSTART;TZID=America/Vancouver:20190413T200000
DTEND;TZID=America/Vancouver:20190413T235500
DTSTAMP:20260419T143101
CREATED:20190406T194638Z
LAST-MODIFIED:20190406T194638Z
UID:3936-1555185600-1555199700@theheritagegrill.com
SUMMARY:DERBY TOWN
DESCRIPTION:
URL:http://theheritagegrill.com/event/derby-town-2/
LOCATION:The Heritage Grill\, 447 Columbia Street\, New Westminster\, British Columbia\, V3L1A9\, Canada
CATEGORIES:Country/Rockabilly
END:VEVENT
BEGIN:VEVENT
DTSTART;TZID=America/Vancouver:20190412T200000
DTEND;TZID=America/Vancouver:20190412T235500
DTSTAMP:20260419T143101
CREATED:20190406T194500Z
LAST-MODIFIED:20190406T194500Z
UID:3934-1555099200-1555113300@theheritagegrill.com
SUMMARY:CANNERY ROW
DESCRIPTION:
URL:http://theheritagegrill.com/event/cannery-row-8/
LOCATION:The Heritage Grill\, 447 Columbia Street\, New Westminster\, British Columbia\, V3L1A9\, Canada
CATEGORIES:Roots n Blues
END:VEVENT
BEGIN:VEVENT
DTSTART;TZID=America/Vancouver:20190411T200000
DTEND;TZID=America/Vancouver:20190411T235500
DTSTAMP:20260419T143101
CREATED:20190406T194330Z
LAST-MODIFIED:20190406T194330Z
UID:3932-1555012800-1555026900@theheritagegrill.com
SUMMARY:PARNO DROM
DESCRIPTION:
URL:http://theheritagegrill.com/event/parno-drom-15/
LOCATION:The Heritage Grill\, 447 Columbia Street\, New Westminster\, British Columbia\, V3L1A9\, Canada
CATEGORIES:Gypsy/Eastern Europe
END:VEVENT
BEGIN:VEVENT
DTSTART;TZID=America/Vancouver:20190410T200000
DTEND;TZID=America/Vancouver:20190410T235500
DTSTAMP:20260419T143101
CREATED:20190406T194238Z
LAST-MODIFIED:20190406T194238Z
UID:3930-1554926400-1554940500@theheritagegrill.com
SUMMARY:TAVARES
DESCRIPTION:
URL:http://theheritagegrill.com/event/tavares-53/
LOCATION:The Heritage Grill\, 447 Columbia Street\, New Westminster\, British Columbia\, V3L1A9\, Canada
CATEGORIES:Classic Rock
END:VEVENT
BEGIN:VEVENT
DTSTART;TZID=America/Vancouver:20190407T200000
DTEND;TZID=America/Vancouver:20190407T235500
DTSTAMP:20260419T143101
CREATED:20190406T194010Z
LAST-MODIFIED:20190406T194127Z
UID:3926-1554667200-1554681300@theheritagegrill.com
SUMMARY:SUPER ROCK SUN DAZE
DESCRIPTION:
URL:http://theheritagegrill.com/event/super-rock-sun-daze-10/
LOCATION:The Heritage Grill\, 447 Columbia Street\, New Westminster\, British Columbia\, V3L1A9\, Canada
CATEGORIES:Rock
END:VEVENT
BEGIN:VEVENT
DTSTART;TZID=America/Vancouver:20190406T200000
DTEND;TZID=America/Vancouver:20190406T235500
DTSTAMP:20260419T143101
CREATED:20190406T193925Z
LAST-MODIFIED:20190406T193925Z
UID:3924-1554580800-1554594900@theheritagegrill.com
SUMMARY:ROCK N' ROLL CIRCUS
DESCRIPTION:
URL:http://theheritagegrill.com/event/rock-n-roll-circus-8/
LOCATION:The Heritage Grill\, 447 Columbia Street\, New Westminster\, British Columbia\, V3L1A9\, Canada
CATEGORIES:Rock
END:VEVENT
BEGIN:VEVENT
DTSTART;TZID=America/Vancouver:20190405T200000
DTEND;TZID=America/Vancouver:20190406T235500
DTSTAMP:20260419T143101
CREATED:20190406T194833Z
LAST-MODIFIED:20190406T194833Z
UID:3938-1554494400-1554594900@theheritagegrill.com
SUMMARY:BLACKBERRY WOOD
DESCRIPTION:
URL:http://theheritagegrill.com/event/blackberry-wood-29/
LOCATION:The Heritage Grill\, 447 Columbia Street\, New Westminster\, British Columbia\, V3L1A9\, Canada
CATEGORIES:Circus Rock
END:VEVENT
BEGIN:VEVENT
DTSTART;TZID=America/Vancouver:20190404T200000
DTEND;TZID=America/Vancouver:20190404T235500
DTSTAMP:20260419T143101
CREATED:20190406T200134Z
LAST-MODIFIED:20190406T200134Z
UID:3958-1554408000-1554422100@theheritagegrill.com
SUMMARY:HONEYBOY WILSON
DESCRIPTION:
URL:http://theheritagegrill.com/event/honeyboy-wilson-26/
LOCATION:The Heritage Grill\, 447 Columbia Street\, New Westminster\, British Columbia\, V3L1A9\, Canada
CATEGORIES:Blues
END:VEVENT
END:VCALENDAR